Felt | Verdi |
2024-02-19T18:44:13+01:00 File 20240217_Sørfold-001-5296.psd saved
AlreadyApplied | True |
Aperture | 9.0 |
ApertureValue | 9.0 |
ApproximateFocusDistance | 4294967295 |
Artist | Igor Kostin |
AutoLateralCA | 0 |
BitsPerSample | 8 |
Blacks2012 | -12 |
BlueHue | 0 |
BlueSaturation | 0 |
By-line | Igor Kostin |
CameraProfile | Embedded |
CircleOfConfusion | 0.009 mm |
Clarity2012 | 0 |
ColorComponents | 3 |
ColorGradeBlending | 50 |
ColorGradeGlobalHue | 217 |
ColorGradeGlobalLum | 0 |
ColorGradeGlobalSat | 4 |
ColorGradeHighlightLum | 0 |
ColorGradeMidtoneHue | 200 |
ColorGradeMidtoneLum | 0 |
ColorGradeMidtoneSat | 13 |
ColorGradeShadowLum | 0 |
ColorNoiseReduction | 0 |
ColorSpace | Uncalibrated |
ColorTransform | YCbCr |
CompatibleVersion | 234881024 |
Contrast2012 | 0 |
ConvertToGrayscale | False |
Copyright | All rights reserved |
CopyrightFlag | True |
CopyrightNotice | All rights reserved |
CreateDate (1) | 2024:02:16 19:38:19.59Z |
CreateDate | 2024:02:16 19:38:19 |
Creator | Igor Kostin |
CreatorCity | Bodø |
CreatorCountry | Norway |
CreatorTool | Adobe Photoshop Lightroom Classic 13.1 (Macintosh) |
CropAngle | 0 |
CropBottom | 1 |
CropConstrainToWarp | 0 |
CropLeft | 0 |
CropRight | 1 |
CropTop | 0 |
CurveRefineSaturation | 100 |
CustomRendered | Normal |
DateCreated (1) | 2024:02:16 |
DateCreated | 2024:02:16 19:38:19.059 |
DateTimeOriginal | 2024:02:16 19:38:19 |
DefringeGreenAmount | 0 |
DefringeGreenHueHi | 60 |
DefringeGreenHueLo | 40 |
DefringePurpleAmount | 0 |
DefringePurpleHueHi | 70 |
DefringePurpleHueLo | 30 |
Dehaze | 0 |
DistortionCorrectionAlreadyApplied | True |
DOF | inf (1092.15 m - inf) |
Exposure2012 | 0.00 |
ExposureCompensation | 0 |
ExposureMode | Manual |
ExposureProgram | Manual |
ExposureTime | 1/200 |
Firmware | 1.7.0 |
Flash | No Flash |
FlashCompensation | 0 |
FNumber | 9.0 |
FocalLength | 300.0 mm |
FocalLength35efl | 300.0 mm (35 mm equivalent: 984.4 mm) |
Format | image/jpeg |
FOV | 2.1 deg |
GrainAmount | 0 |
GreenHue | 0 |
GreenSaturation | 0 |
HasCrop | False |
HasSettings | True |
HDREditMode | 0 |
Highlights2012 | 0 |
HueAdjustmentAqua | +15 |
HueAdjustmentBlue | -12 |
HueAdjustmentGreen | -42 |
HueAdjustmentMagenta | +48 |
HueAdjustmentOrange | -9 |
HueAdjustmentPurple | +48 |
HueAdjustmentRed | +33 |
HueAdjustmentYellow | -42 |
HyperfocalDistance | 1092.15 m |
ImageHeight | 1365 |
ImageNumber | 0 |
ImageSize | 2048x1365 |
ImageWidth | 2048 |
IncrementalTemperature | 0 |
IncrementalTint | 0 |
ISO | 160 |
Keywords | 2024, @igorkostin74, Bodø, Canon, CanonEOSR, Digital, Landscape, Natur, Nordland, Norge, Norway, Sørfold, exposure, travel |
LateralChromaticAberrationCorrectionAlreadyApplied | True |
Lens | EF28-300mm f/3.5-5.6L IS USM |
LensID (1) | 233 |
LensID | Canon EF 28-300mm f/3.5-5.6L IS USM |
LensInfo | 28-300mm f/? |
LensManualDistortionAmount | 0 |
LensModel | EF28-300mm f/3.5-5.6L IS USM |
LensProfileEnable | 0 |
LensSerialNumber | 000020a680 |
LightValue | 13.3 |
LuminanceAdjustmentAqua | 0 |
LuminanceAdjustmentBlue | -19 |
LuminanceAdjustmentGreen | -19 |
LuminanceAdjustmentMagenta | 0 |
LuminanceAdjustmentOrange | +1 |
LuminanceAdjustmentPurple | 0 |
LuminanceAdjustmentRed | -10 |
LuminanceAdjustmentYellow | -23 |
LuminanceSmoothing | 0 |
Make | Canon |
Marked | True |
MaxApertureValue | 5.7 |
Megapixels | 2.8 |
MeteringMode | Multi-segment |
Model | Canon EOS R |
ModifyDate (1) | 2024:02:19 18:50:10+01:00 |
ModifyDate | 2024:02:19 18:50:10 |
OverrideLookVignette | False |
ParametricDarks | 0 |
ParametricHighlights | 0 |
ParametricHighlightSplit | 75 |
ParametricLights | 0 |
ParametricMidtoneSplit | 50 |
ParametricShadows | 0 |
ParametricShadowSplit | 25 |
PerspectiveAspect | 0 |
PerspectiveHorizontal | 0 |
PerspectiveRotate | 0.0 |
PerspectiveScale | 100 |
PerspectiveUpright | 0 |
PerspectiveVertical | 0 |
PerspectiveX | 0.00 |
PerspectiveY | 0.00 |
PointColors | -1.000000, -1.000000, -1.000000, -1.000000, -1.000000, -1.000000, -1.000000, -1.000000, -1.000000, -1.000000, -1.000000, -1.000000, -1.000000, -1.000000, -1.000000, -1.000000, -1.000000, -1.000000, -1.000000 |
PostCropVignetteAmount | 0 |
PreservedFileName | _Q3A0053.CR3 |
ProcessVersion | 15.4 |
ProfileDescription | Display P3 |
Rating | 5 |
RawFileName | 20240217_Sørfold-001-5296.psd |
RecommendedExposureIndex | 160 |
RedHue | 0 |
RedSaturation | 0 |
Rights | All rights reserved |
Saturation | 0 |
SaturationAdjustmentAqua | -44 |
SaturationAdjustmentBlue | -37 |
SaturationAdjustmentGreen | -48 |
SaturationAdjustmentMagenta | +3 |
SaturationAdjustmentOrange | -24 |
SaturationAdjustmentPurple | -20 |
SaturationAdjustmentRed | -12 |
SaturationAdjustmentYellow | -18 |
ScaleFactor35efl | 3.3 |
SceneCaptureType | Standard |
SensitivityType | Recommended Exposure Index |
SerialNumber | 032021005303 |
Shadows2012 | +17 |
ShadowTint | 0 |
Sharpness | 0 |
ShutterSpeed | 1/200 |
ShutterSpeedValue | 1/200 |
Software | Adobe Photoshop Lightroom Classic 13.1 (Macintosh) |
SplitToningBalance | 0 |
SplitToningHighlightHue | 217 |
SplitToningHighlightSaturation | 13 |
SplitToningShadowHue | 348 |
SplitToningShadowSaturation | 11 |
Subject | 2024, @igorkostin74, Bodø, Canon, CanonEOSR, Digital, Landscape, Natur, Nordland, Norge, Norway, Sørfold, exposure, travel |
Texture | 0 |
ToneCurveName2012 | Custom |
ToneCurvePV2012 | 0, 12, 42, 51, 103, 101, 165, 158, 255, 241 |
ToneCurvePV2012Blue | 0, 5, 40, 32, 82, 71, 118, 118, 179, 189, 255, 255 |
ToneCurvePV2012Green | 0, 0, 46, 34, 86, 79, 115, 119, 179, 189, 255, 255 |
ToneCurvePV2012Red | 0, 0, 47, 34, 82, 72, 114, 118, 177, 186, 255, 255 |
UsageTerms | Please contact |
Version | 16.1 |
Vibrance | +1 |
VignetteAmount | 0 |
VignetteCorrectionAlreadyApplied | True |
WeightedFlatSubject | @igorkostin74, 2024, Bodø, Canon, CanonEOSR, Digital, exposure, Landscape, Natur, Nordland, Norge, Norway, Sørfold, travel |
WhiteBalance (1) | As Shot |
WhiteBalance | Auto |
Whites2012 | -38 |